BEGIN:VCALENDAR
VERSION:2.0
PRODID:http://www.kufer.de/kuferweb / DE
METHOD:PUBLISH
CALSCALE:GREGORIAN
X-WR-TIMEZONE:Europe/Berlin
BEGIN:VTIMEZONE
TZID:Europe/Berlin
X-LIC-LOCATION:Europe/Berlin
BEGIN:DAYLIGHT
TZOFFSETFROM:+0100
TZOFFSETTO:+0200
TZNAME:CEST
DTSTART;TZID=Europe/Berlin:19700329T020000
RRULE:FREQ=YEARLY;INTERVAL=1;BYDAY=-1SU;BYMONTH=3
END:DAYLIGHT
BEGIN:STANDARD
TZOFFSETFROM:+0200
TZOFFSETTO:+0100
TZNAME:CET
DTSTART;TZID=Europe/Berlin:19701025T030000
RRULE:FREQ=YEARLY;INTERVAL=1;BYDAY=-1SU;BYMONTH=10
END:STANDARD
END:VTIMEZONE
BEGIN:VEVENT
DTSTAMP:20260420T144038
DTSTART;TZID=Europe/Berlin:20260309T190000
DTEND;TZID=Europe/Berlin:20260309T210000
UID:2613ESB043-20260309T190000@VHSESCHENBACH
SUMMARY:Ayurveda Frühjahrs-Detox - Sanft entgiften, neue Energie tanken (2613ESB043) 
LOCATION:VHS, Karlsplatz 29, Raum 3, 2. Stock, Karlsplatz 29, 92676 Eschenbach
END:VEVENT
BEGIN:VEVENT
DTSTAMP:20260420T144038
DTSTART;TZID=Europe/Berlin:20260313T190000
DTEND;TZID=Europe/Berlin:20260313T210000
UID:2613ESB043-20260313T190000@VHSESCHENBACH
SUMMARY:Ayurveda Frühjahrs-Detox - Sanft entgiften, neue Energie tanken (2613ESB043) 
LOCATION:VHS, Karlsplatz 29, Raum 3, 2. Stock, Karlsplatz 29, 92676 Eschenbach
END:VEVENT
BEGIN:VEVENT
DTSTAMP:20260420T144038
DTSTART;TZID=Europe/Berlin:20260316T190000
DTEND;TZID=Europe/Berlin:20260316T200000
UID:2613ESB043-20260316T190000@VHSESCHENBACH
SUMMARY:Ayurveda Frühjahrs-Detox - Sanft entgiften, neue Energie tanken (2613ESB043) 
LOCATION:VHS, Karlsplatz 29, Raum 3, 2. Stock, Karlsplatz 29, 92676 Eschenbach
END:VEVENT
BEGIN:VEVENT
DTSTAMP:20260420T144038
DTSTART;TZID=Europe/Berlin:20260319T190000
DTEND;TZID=Europe/Berlin:20260319T200000
UID:2613ESB043-20260319T190000@VHSESCHENBACH
SUMMARY:Ayurveda Frühjahrs-Detox - Sanft entgiften, neue Energie tanken (2613ESB043) 
LOCATION:VHS, Karlsplatz 29, Raum 3, 2. Stock, Karlsplatz 29, 92676 Eschenbach
END:VEVENT
END:VCALENDAR